BEGIN:VCALENDAR
VERSION:2.0
PRODID:-//Sports &amp; Social Allentown - ECPv6.15.7//NONSGML v1.0//EN
CALSCALE:GREGORIAN
METHOD:PUBLISH
X-WR-CALNAME:Sports &amp; Social Allentown
X-ORIGINAL-URL:https://sportsandsocial.com/allentown
X-WR-CALDESC:Events for Sports &amp; Social Allentown
REFRESH-INTERVAL;VALUE=DURATION:PT1H
X-Robots-Tag:noindex
X-PUBLISHED-TTL:PT1H
BEGIN:VTIMEZONE
TZID:America/New_York
BEGIN:DAYLIGHT
TZOFFSETFROM:-0500
TZOFFSETTO:-0400
TZNAME:EDT
DTSTART:20240310T070000
END:DAYLIGHT
BEGIN:STANDARD
TZOFFSETFROM:-0400
TZOFFSETTO:-0500
TZNAME:EST
DTSTART:20241103T060000
END:STANDARD
BEGIN:DAYLIGHT
TZOFFSETFROM:-0500
TZOFFSETTO:-0400
TZNAME:EDT
DTSTART:20250309T070000
END:DAYLIGHT
BEGIN:STANDARD
TZOFFSETFROM:-0400
TZOFFSETTO:-0500
TZNAME:EST
DTSTART:20251102T060000
END:STANDARD
BEGIN:DAYLIGHT
TZOFFSETFROM:-0500
TZOFFSETTO:-0400
TZNAME:EDT
DTSTART:20260308T070000
END:DAYLIGHT
BEGIN:STANDARD
TZOFFSETFROM:-0400
TZOFFSETTO:-0500
TZNAME:EST
DTSTART:20261101T060000
END:STANDARD
END:VTIMEZONE
BEGIN:VEVENT
DTSTART;TZID=America/New_York:20250410T160000
DTEND;TZID=America/New_York:20250413T233000
DTSTAMP:20260424T230331
CREATED:20250409T204314Z
LAST-MODIFIED:20250411T171805Z
UID:10002342-1744300800-1744587000@sportsandsocial.com
SUMMARY:Golf Tournament Weekend
DESCRIPTION:Watch the ultimate golf tournament unfold at Sports & Social Allentown. Catch every swing and putt on our 30 HDTVs and a 25-foot HDTV screen! \nWhether you’re a die-hard golf fan or just here for the drinks and atmosphere\, this is the perfect spot to soak it all in! \n 
URL:https://sportsandsocial.com/allentown/event/golf-tournament-weekend/
END:VEVENT
BEGIN:VEVENT
DTSTART;TZID=America/New_York:20250412T160000
DTEND;TZID=America/New_York:20250412T160000
DTSTAMP:20260424T230331
CREATED:20250409T203358Z
LAST-MODIFIED:20250409T203358Z
UID:10002341-1744473600-1744473600@sportsandsocial.com
SUMMARY:UFC 314 Fight Night Live!
DESCRIPTION:Join us for UFC 314 when Alexander Volkanovski takes on Diego Lopes. \nDon’t miss a second of the action with 30 HDTVs and a 25-foot HDTV screen! Fight fans grab your crew for great drinks\, delicious food\, and the best atmosphere for sports watch. \nReserve your table today!
URL:https://sportsandsocial.com/allentown/event/ufc-314-fight-night-live-2/
END:VEVENT
BEGIN:VEVENT
DTSTART;TZID=America/New_York:20250424T160000
DTEND;TZID=America/New_York:20250424T160000
DTSTAMP:20260424T230331
CREATED:20250409T204824Z
LAST-MODIFIED:20250423T200919Z
UID:10002343-1745510400-1745510400@sportsandsocial.com
SUMMARY:Football Draft Party
DESCRIPTION:Join us for the ultimate Draft Night experience on Thursday\, April 24th! \nCatch every pick live on our 30 HDTVs and a 25-foot HDTV screen! while enjoying our $3 Michelob Ultras\, $4 call cocktails\, $5 crushs\, $5 wines\, $7 Surfsides and $15 domestic buckets. 
URL:https://sportsandsocial.com/allentown/event/football-draft-party/
END:VEVENT
BEGIN:VEVENT
DTSTART;TZID=America/New_York:20250503T160000
DTEND;TZID=America/New_York:20250503T160000
DTSTAMP:20260424T230331
CREATED:20250411T170634Z
LAST-MODIFIED:20250423T200942Z
UID:10002344-1746288000-1746288000@sportsandsocial.com
SUMMARY:Boxing Fight Night - Canelo Alvarez vs William Scull
DESCRIPTION:Join us on Saturday\, May 3rd for the highly anticipated Canelo Alvarez vs William Scull fight. \nDon’t miss a second of the action with 30 HDTVs and a 25-foot HDTV screen! Enjoy margarita specials\, Corona buckets and more! \nTable reservations are $50 per person and are applied as a credit toward your food and beverage minimum. Lock in your spot now for the ultimate fight night experience!
URL:https://sportsandsocial.com/allentown/event/boxing-fight-night-canelo-alvarez-vs-william-scull/
END:VEVENT
BEGIN:VEVENT
DTSTART;TZID=America/New_York:20250503T160000
DTEND;TZID=America/New_York:20250503T233000
DTSTAMP:20260424T230331
CREATED:20250411T171725Z
LAST-MODIFIED:20250423T200735Z
UID:10002345-1746288000-1746315000@sportsandsocial.com
SUMMARY:Run for the Roses - Derby Watch Party
DESCRIPTION:Celebrate the Derby in style with mint juleps\, lavender gin & tonics\, and domestic beer bucket specials! \nWatch the excitement of the races unfold on our massive 30 HDTVs and a 25-foot HDTV screen! \n 
URL:https://sportsandsocial.com/allentown/event/derby-watch-party/
END:VEVENT
BEGIN:VEVENT
DTSTART;TZID=America/New_York:20250505T160000
DTEND;TZID=America/New_York:20250505T233000
DTSTAMP:20260424T230331
CREATED:20250417T183659Z
LAST-MODIFIED:20250429T165430Z
UID:10002347-1746460800-1746487800@sportsandsocial.com
SUMMARY:Cinco de Mayo
DESCRIPTION:Join us for an unforgettable Cinco de Mayo fiesta! Enjoy this can’t-miss deal: \nGet two tacos\, chips & salsa\, and a beer — all for just $18! \nWant to kick it up a notch? Swap your beer for a margarita for only $2 more! \n  \n 
URL:https://sportsandsocial.com/allentown/event/cinco-de-mayo-2/
END:VEVENT
BEGIN:VEVENT
DTSTART;TZID=America/New_York:20250510T160000
DTEND;TZID=America/New_York:20250510T160000
DTSTAMP:20260424T230331
CREATED:20250417T183322Z
LAST-MODIFIED:20250417T183337Z
UID:10002346-1746892800-1746892800@sportsandsocial.com
SUMMARY:UFC 315 Fight Night Live!
DESCRIPTION:Join us for UFC 315 Muhammad vs. Della Maddalena on Saturday\, May 10th. \nDon’t miss a second of the action with 30 HDTVs and a 25-foot HDTV screen! Fight fans grab your crew for great drinks\, delicious food\, and the best atmosphere for sports watch.
URL:https://sportsandsocial.com/allentown/event/ufc-315-fight-night-live/
END:VEVENT
BEGIN:VEVENT
DTSTART;TZID=America/New_York:20250604T180000
DTEND;TZID=America/New_York:20250604T220000
DTSTAMP:20260424T230331
CREATED:20250530T165650Z
LAST-MODIFIED:20250530T165650Z
UID:10002350-1749060000-1749074400@sportsandsocial.com
SUMMARY:Wine Not Whiskey?
DESCRIPTION:Join us every Wednesday from 6pm–9pm for the perfect midweek escape! Enjoy live entertainment from Tim Harakal on the patio (weather permitting) and sip on these great drink specials:\n\n$5 house wine by the glass$7 Briganti wine by the can$7 Bulleit bourbon cocktails\n\nBring your friends and unwind with us at Sports & Social Allentown!
URL:https://sportsandsocial.com/allentown/event/wine-not-whiskey-2/
END:VEVENT
BEGIN:VEVENT
DTSTART;TZID=America/New_York:20250607T160000
DTEND;TZID=America/New_York:20250607T160000
DTSTAMP:20260424T230331
CREATED:20250512T194659Z
LAST-MODIFIED:20250515T201939Z
UID:10002348-1749312000-1749312000@sportsandsocial.com
SUMMARY:UFC 316 Fight Night Live! - Presented by Jägermeister
DESCRIPTION:Join us for UFC 316 Dvalishvili vs. O’Malley 2 on Saturday\, June 7th. \nEnjoy $7 Jägermeister Jägerbombs during the fight! \nDon’t miss a second of the action with 30 HDTVs and a 25-foot HDTV screen! Fight fans grab your crew for great drinks\, delicious food\, and the best atmosphere for sports watch.
URL:https://sportsandsocial.com/allentown/event/ufc-316-fight-night-live/
END:VEVENT
BEGIN:VEVENT
DTSTART;VALUE=DATE:20250611
DTEND;VALUE=DATE:20250612
DTSTAMP:20260424T230331
CREATED:20250609T204822Z
LAST-MODIFIED:20250609T204822Z
UID:10002355-1749600000-1749686399@sportsandsocial.com
SUMMARY:Basketball Watch
DESCRIPTION:Catch every three-pointer\, dunk\, and buzzer beater on our 25-foot LED media wall and over a dozen HDTVs!
URL:https://sportsandsocial.com/allentown/event/basketball-watch/
END:VEVENT
BEGIN:VEVENT
DTSTART;TZID=America/New_York:20250611T180000
DTEND;TZID=America/New_York:20250611T220000
DTSTAMP:20260424T230331
CREATED:20250530T165441Z
LAST-MODIFIED:20250530T165441Z
UID:10002349-1749664800-1749679200@sportsandsocial.com
SUMMARY:Wine Not Whiskey?
DESCRIPTION:Join us every Wednesday from 6pm–9pm for the perfect midweek escape! Enjoy live entertainment from Hannah Noel on the patio (weather permitting) and sip on these great drink specials:\n\n$5 house wine by the glass$7 Briganti wine by the can$7 Bulleit bourbon cocktails\n\nBring your friends and unwind with us at Sports & Social Allentown!
URL:https://sportsandsocial.com/allentown/event/wine-not-whiskey/
END:VEVENT
BEGIN:VEVENT
DTSTART;VALUE=DATE:20250613
DTEND;VALUE=DATE:20250614
DTSTAMP:20260424T230331
CREATED:20250609T204901Z
LAST-MODIFIED:20250609T204901Z
UID:10002356-1749772800-1749859199@sportsandsocial.com
SUMMARY:Basketball Watch
DESCRIPTION:Catch every three-pointer\, dunk\, and buzzer beater on our 25-foot LED media wall and over a dozen HDTVs!
URL:https://sportsandsocial.com/allentown/event/basketball-watch-2/
END:VEVENT
BEGIN:VEVENT
DTSTART;VALUE=DATE:20250614
DTEND;VALUE=DATE:20250615
DTSTAMP:20260424T230331
CREATED:20250609T181734Z
LAST-MODIFIED:20250609T181911Z
UID:10002354-1749859200-1749945599@sportsandsocial.com
SUMMARY:Blues\, Brews & BBQ - Official Afterparty
DESCRIPTION:Heading to Blues\, Brews & Barbecue? Keep the party going at the official after party at Sports & Social Allentown! \nJoin us on Saturday\, June 14th from 8pm–12am for drink specials and giveaways\, and late-night entertainment you won’t want to miss. \nDrink Specials:• $3 Domestic Bottles• $5 Crushes• $7 Surfsides \nPlus\, don’t miss your chance to win epic prizes throughout the night.
URL:https://sportsandsocial.com/allentown/event/blue-brews-bbq-official-after-party/
END:VEVENT
BEGIN:VEVENT
DTSTART;VALUE=DATE:20250614
DTEND;VALUE=DATE:20250714
DTSTAMP:20260424T230331
CREATED:20250612T214035Z
LAST-MODIFIED:20250612T214035Z
UID:10002359-1749859200-1752451199@sportsandsocial.com
SUMMARY:International Soccer Watch Parties at Sports & Social Allentown
DESCRIPTION:Join us for select international soccer matchups on our big screen! Enjoy cold drinks\, delicious eats\, and the best seats in town for the soccer moments you don’t want to miss. \n🗓️ Dates & Times:\nJune 14th – 8pm\nJune 15th – 3pm\nJune 16th – 3pm\nJune 17th – 12pm\nJune 18th – 3pm\nJune 19th – 3pm\nJune 20th – 2pm & 9pm\nJune 21st – 9pm\nJune 22nd – 3pm & 9pm\nJune 23rd – 9pm\nJune 24th 3pm\nJune 26th – 3pm \n*Match availability is subject to change. The number of games shown may vary based on scheduling and broadcast availability.* \n 
URL:https://sportsandsocial.com/allentown/event/international-soccer-watch-parties/
END:VEVENT
BEGIN:VEVENT
DTSTART;TZID=America/New_York:20250618T180000
DTEND;TZID=America/New_York:20250618T220000
DTSTAMP:20260424T230331
CREATED:20250530T165748Z
LAST-MODIFIED:20250530T165748Z
UID:10002351-1750269600-1750284000@sportsandsocial.com
SUMMARY:Wine Not Whiskey?
DESCRIPTION:Join us every Wednesday from 6pm–9pm for the perfect midweek escape! Enjoy live entertainment from Justin Fava on the patio (weather permitting) and sip on these great drink specials:\n\n$5 house wine by the glass$7 Briganti wine by the can$7 Bulleit bourbon cocktails\n\nBring your friends and unwind with us at Sports & Social Allentown!
URL:https://sportsandsocial.com/allentown/event/wine-not-whiskey-3/
END:VEVENT
BEGIN:VEVENT
DTSTART;TZID=America/New_York:20250625T180000
DTEND;TZID=America/New_York:20250625T220000
DTSTAMP:20260424T230331
CREATED:20250530T165943Z
LAST-MODIFIED:20250530T165943Z
UID:10002352-1750874400-1750888800@sportsandsocial.com
SUMMARY:Wine Not Whiskey?
DESCRIPTION:Join us every Wednesday from 6pm–9pm for the perfect midweek escape! Enjoy live entertainment from Vik Raolji on the patio (weather permitting) and sip on these great drink specials:\n\n$5 house wine by the glass$7 Briganti wine by the can$7 Bulleit bourbon cocktails\n\nBring your friends and unwind with us at Sports & Social Allentown!
URL:https://sportsandsocial.com/allentown/event/wine-not-whiskey-4/
END:VEVENT
BEGIN:VEVENT
DTSTART;VALUE=DATE:20250626
DTEND;VALUE=DATE:20250627
DTSTAMP:20260424T230331
CREATED:20250609T205028Z
LAST-MODIFIED:20250609T205028Z
UID:10002357-1750896000-1750982399@sportsandsocial.com
SUMMARY:Hockey Watch
DESCRIPTION:There’s no better place to catch all the hockey action than on our massive 25-foot LED media wall and over a dozen HDTVs! \n 
URL:https://sportsandsocial.com/allentown/event/hockey-watch/
END:VEVENT
BEGIN:VEVENT
DTSTART;VALUE=DATE:20250628
DTEND;VALUE=DATE:20250629
DTSTAMP:20260424T230331
CREATED:20250603T170917Z
LAST-MODIFIED:20250611T173455Z
UID:10002353-1751068800-1751155199@sportsandsocial.com
SUMMARY:UFC 317 Fight Night Live! - Presented by Jägermeister
DESCRIPTION:Join us for UFC 317 Topuria vs Oliveira on Saturday\, June 28th. \nEnjoy specialty Jägermeister drinks during the fight! \nDon’t miss a second of the action with 30 HDTVs and a 25-foot HDTV screen! Fight fans grab your crew for great drinks\, delicious food\, and the best atmosphere for sports watch.
URL:https://sportsandsocial.com/allentown/event/ufc-317-fight-night-live-presented-by-jagermeister/
END:VEVENT
BEGIN:VEVENT
DTSTART;VALUE=DATE:20250630
DTEND;VALUE=DATE:20250701
DTSTAMP:20260424T230331
CREATED:20250609T205055Z
LAST-MODIFIED:20250609T205055Z
UID:10002358-1751241600-1751327999@sportsandsocial.com
SUMMARY:Hockey Watch
DESCRIPTION:There’s no better place to catch all the hockey action than on our massive 25-foot LED media wall and over a dozen HDTVs! \n 
URL:https://sportsandsocial.com/allentown/event/hockey-watch-2/
END:VEVENT
BEGIN:VEVENT
DTSTART;VALUE=DATE:20250701
DTEND;VALUE=DATE:20250702
DTSTAMP:20260424T230331
CREATED:20250627T234440Z
LAST-MODIFIED:20250627T234440Z
UID:10002362-1751328000-1751414399@sportsandsocial.com
SUMMARY:The Ultimate Watch Party!
DESCRIPTION:COME TO THE ULTIMATE WATCH PARTY.\n\nYES. ON A BIG LED SCREEN – BECAUSE THE DRAMA DESERVES TO BE LIFE-SIZED.\n\nIt’s time to get your popcorn\, your judgmental one-liners\, and your finest fake tan ready—because we’re watching Love Island like true villa VIPs. Join us for cocktails strong enough to survive a recoupling and snacks to cry into when your fave gets dumped. Enjoy themed cocktails\, games\, giveaways & more!\n\nCOME FOR THE CHAOS. STAY FOR THE BAD DECISIONS.
URL:https://sportsandsocial.com/allentown/event/ultimate-watch-party/
END:VEVENT
BEGIN:VEVENT
DTSTART;VALUE=DATE:20250704
DTEND;VALUE=DATE:20250706
DTSTAMP:20260424T230331
CREATED:20250623T180920Z
LAST-MODIFIED:20250623T182347Z
UID:10002360-1751587200-1751759999@sportsandsocial.com
SUMMARY:Fourth of July Weekend
DESCRIPTION:Celebrate 4th of July Weekend at Sports & Social Allentown! \nJoin us for an unforgettable holiday weekend filled with flavor and nonstop fun! Enjoy our late-night happy hour specials from 9PM–12AM\, featuring: \n\n\n$3 Domestic Bottles \n\n\n$5 Orange Crushes \n\n\n$7 Surfsides \n\n\n$7 Gin & Juice Canned Cocktails \n\n\n$5 Signature Fries \n\n\n$5 Cheesesteak Egg Rolls \n\n\n$6.50 Boneless Wings \n\n\nPlus\, enjoy live entertainment all weekend long with:DJ Dnero on Friday\, July 4thDJ Jamal Knight on Saturday\, July 5th \nWhether you’re here for the drinks\, the music\, or the all-American vibes\, Sports & Social Allentown is your go-to destination for Independence Day celebrations! \n 
URL:https://sportsandsocial.com/allentown/event/fourth-of-july/
END:VEVENT
BEGIN:VEVENT
DTSTART;TZID=America/New_York:20250708T190000
DTEND;TZID=America/New_York:20250713T223000
DTSTAMP:20260424T230331
CREATED:20250703T195358Z
LAST-MODIFIED:20250708T195456Z
UID:10002367-1752001200-1752445800@sportsandsocial.com
SUMMARY:Watch the Hottest Show of the Summer
DESCRIPTION:Watch the hottest show of the summer with us at Sports & Social Allentown! Tuesday\, July 8th\, Thursday\, July 10th and Sunday\, July 13th.\n\nEnjoy cocktails\, games\, giveaways & more!\n\nCOME FOR THE CHAOS. STAY FOR THE BAD DECISIONS.
URL:https://sportsandsocial.com/allentown/event/watch-party-sports-social-allentown/
END:VEVENT
BEGIN:VEVENT
DTSTART;TZID=America/New_York:20250709T180000
DTEND;TZID=America/New_York:20250709T220000
DTSTAMP:20260424T230331
CREATED:20250703T194843Z
LAST-MODIFIED:20250703T194843Z
UID:10002363-1752084000-1752098400@sportsandsocial.com
SUMMARY:Wine Not Whiskey?
DESCRIPTION:Join us every Wednesday from 6pm–9pm for the perfect midweek escape! Enjoy live entertainment from Erin Kelly on the patio (weather permitting) and sip on these great drink specials:\n\n$5 house wine by the glass$7 Briganti wine by the can$7 Bulleit bourbon cocktails\n\nBring your friends and unwind with us at Sports & Social Allentown!
URL:https://sportsandsocial.com/allentown/event/wine-not-whiskey-5/
END:VEVENT
BEGIN:VEVENT
DTSTART;VALUE=DATE:20250716
DTEND;VALUE=DATE:20250904
DTSTAMP:20260424T230331
CREATED:20250716T214401Z
LAST-MODIFIED:20250716T214401Z
UID:10002370-1752624000-1756943999@sportsandsocial.com
SUMMARY:Fantasy Football Draft Parties
DESCRIPTION:Fantasy Football Draft Packages Include: \nReserved Space\nFree WiFi\nDraft Board\n\n$160 Package (up to 8 guests) = 16 Beers or Tower Equivalent\, 30 Wings & 2 Loaded Nachos\n$200 Package (up to 10 guests) = 20 Beers or Tower Equivalent\, 40 Wings & 2 Loaded Nachos \n$240 Package (up to 12 guests) = 24 Beers or Tower Equivalent\, 50 Wings & 3 Loaded Nachos \n*Draft boards available upon request for additional fee. Tax\, fees and gratuities not included.  \nCONTACT ANNABELLE CONWAY TO RESERVE YOUR SPOT: ACONWAY@TEXAS-LIVE.COM \nInterested in a private space for 12+ guests? Contact Elizabeth Keddie at ekeddie@livehospitality.com
URL:https://sportsandsocial.com/allentown/event/fantasyfootballdraftparties/
END:VEVENT
BEGIN:VEVENT
DTSTART;TZID=America/New_York:20250716T180000
DTEND;TZID=America/New_York:20250716T220000
DTSTAMP:20260424T230331
CREATED:20250703T194915Z
LAST-MODIFIED:20250703T194915Z
UID:10002364-1752688800-1752703200@sportsandsocial.com
SUMMARY:Wine Not Whiskey?
DESCRIPTION:Join us every Wednesday from 6pm–9pm for the perfect midweek escape! Enjoy live entertainment from Doug Kaetz on the patio (weather permitting) and sip on these great drink specials:\n\n$5 house wine by the glass$7 Briganti wine by the can$7 Bulleit bourbon cocktails\n\nBring your friends and unwind with us at Sports & Social Allentown!
URL:https://sportsandsocial.com/allentown/event/wine-not-whiskey-6/
END:VEVENT
BEGIN:VEVENT
DTSTART;VALUE=DATE:20250719
DTEND;VALUE=DATE:20250720
DTSTAMP:20260424T230331
CREATED:20250623T211149Z
LAST-MODIFIED:20250623T211149Z
UID:10002361-1752883200-1752969599@sportsandsocial.com
SUMMARY:UFC 318 Fight Night Live! - Presented by Jägermeister
DESCRIPTION:Join us for UFC 318 Holloway vs Poirier 3 on Saturday\, July 19th. \nEnjoy specialty Jägermeister drinks during the fight! \nDon’t miss a second of the action with 30 HDTVs and a 25-foot HDTV screen! Fight fans grab your crew for great drinks\, delicious food\, and the best atmosphere for sports watch.
URL:https://sportsandsocial.com/allentown/event/ufc-318-fight-night-live-presented-by-jagermeister-2/
END:VEVENT
BEGIN:VEVENT
DTSTART;TZID=America/New_York:20250723T180000
DTEND;TZID=America/New_York:20250723T220000
DTSTAMP:20260424T230331
CREATED:20250703T194941Z
LAST-MODIFIED:20250703T194941Z
UID:10002365-1753293600-1753308000@sportsandsocial.com
SUMMARY:Wine Not Whiskey?
DESCRIPTION:Join us every Wednesday from 6pm–9pm for the perfect midweek escape! Enjoy live entertainment from Ian Kirk on the patio (weather permitting) and sip on these great drink specials:\n\n$5 house wine by the glass$7 Briganti wine by the can$7 Bulleit bourbon cocktails\n\nBring your friends and unwind with us at Sports & Social Allentown!
URL:https://sportsandsocial.com/allentown/event/wine-not-whiskey-7/
END:VEVENT
BEGIN:VEVENT
DTSTART;VALUE=DATE:20250729
DTEND;VALUE=DATE:20250730
DTSTAMP:20260424T230331
CREATED:20250714T133039Z
LAST-MODIFIED:20250714T133200Z
UID:10002369-1753747200-1753833599@sportsandsocial.com
SUMMARY:National Chicken Wing Day
DESCRIPTION:COUNTDOWN TO NATIONAL CHICKEN WING DAY! \nWe’re celebrating with our Wing of the Week series! Each week will feature a different flavor leading up to National Wing Day on July 29th. \nMark your calendar for July 29th\, when we’ll reveal a mystery wing flavor available for one day only! \nJoin us each week and get your wing fix leading up to the big day.
URL:https://sportsandsocial.com/allentown/event/national-chicken-wing-day/
END:VEVENT
BEGIN:VEVENT
DTSTART;VALUE=DATE:20250730
DTEND;VALUE=DATE:20250902
DTSTAMP:20260424T230331
CREATED:20250730T150219Z
LAST-MODIFIED:20250730T150337Z
UID:10002373-1753833600-1756771199@sportsandsocial.com
SUMMARY:Christmas in July - Holiday Promotion
DESCRIPTION:Book your holiday party at Sports & Social Allentown by September 1st and receive a complimentary party enhancement: \n-DJ\n-Karaoke\n-Signature Cocktail/ Mocktail\,\n-Dessert Display \nEmail ekeddie@livehospitality.com to begin planning today! \n*Must be booked by 8/1\, limited availability\, restrictions may apply*
URL:https://sportsandsocial.com/allentown/event/christmas-in-july/
END:VEVENT
BEGIN:VEVENT
DTSTART;TZID=America/New_York:20250730T180000
DTEND;TZID=America/New_York:20250730T220000
DTSTAMP:20260424T230331
CREATED:20250703T195008Z
LAST-MODIFIED:20250703T195008Z
UID:10002366-1753898400-1753912800@sportsandsocial.com
SUMMARY:Wine Not Whiskey?
DESCRIPTION:Join us every Wednesday from 6pm–9pm for the perfect midweek escape! Enjoy live entertainment from Justin Fava on the patio (weather permitting) and sip on these great drink specials:\n\n$5 house wine by the glass$7 Briganti wine by the can$7 Bulleit bourbon cocktails\n\nBring your friends and unwind with us at Sports & Social Allentown!
URL:https://sportsandsocial.com/allentown/event/wine-not-whiskey-8/
END:VEVENT
END:VCALENDAR