BEGIN:VCALENDAR
VERSION:2.0
PRODID:-//Sports &amp; Social Allentown - ECPv6.15.7//NONSGML v1.0//EN
CALSCALE:GREGORIAN
METHOD:PUBLISH
X-ORIGINAL-URL:https://sportsandsocial.com/allentown
X-WR-CALDESC:Events for Sports &amp; Social Allentown
REFRESH-INTERVAL;VALUE=DURATION:PT1H
X-Robots-Tag:noindex
X-PUBLISHED-TTL:PT1H
BEGIN:VTIMEZONE
TZID:America/New_York
BEGIN:DAYLIGHT
TZOFFSETFROM:-0500
TZOFFSETTO:-0400
TZNAME:EDT
DTSTART:20250309T070000
END:DAYLIGHT
BEGIN:STANDARD
TZOFFSETFROM:-0400
TZOFFSETTO:-0500
TZNAME:EST
DTSTART:20251102T060000
END:STANDARD
BEGIN:DAYLIGHT
TZOFFSETFROM:-0500
TZOFFSETTO:-0400
TZNAME:EDT
DTSTART:20260308T070000
END:DAYLIGHT
BEGIN:STANDARD
TZOFFSETFROM:-0400
TZOFFSETTO:-0500
TZNAME:EST
DTSTART:20261101T060000
END:STANDARD
BEGIN:DAYLIGHT
TZOFFSETFROM:-0500
TZOFFSETTO:-0400
TZNAME:EDT
DTSTART:20270314T070000
END:DAYLIGHT
BEGIN:STANDARD
TZOFFSETFROM:-0400
TZOFFSETTO:-0500
TZNAME:EST
DTSTART:20271107T060000
END:STANDARD
END:VTIMEZONE
BEGIN:VEVENT
DTSTART;TZID=America/New_York:20260428T190000
DTEND;TZID=America/New_York:20260428T220000
DTSTAMP:20260425T184325
CREATED:20260422T140854Z
LAST-MODIFIED:20260422T140854Z
UID:10003513-1777402800-1777413600@sportsandsocial.com
SUMMARY:Sixers vs. Boston Playoffs
DESCRIPTION:Philly vs. Boston hits different in the playoffs.\nCatch every Sixers game with stadium sound\, wall-to-wall TVs and a crowd that brings the energy at Sports & Social Allentown.\nLock in your table now and ride with the Sixers all series long. \nBOOK YOUR TABLE
URL:https://sportsandsocial.com/allentown/event/sixers-vs-boston-playoffs-3/
ATTACH;FMTTYPE=image/jpeg:https://sportsandsocial.com/allentown/wp-content/uploads/sites/9/2026/04/AdobeStock_763376103-Medium.jpeg
END:VEVENT
END:VCALENDAR