BEGIN:VCALENDAR
VERSION:2.0
PRODID:-//Sports &amp; Social Bethesda - ECPv6.15.7//NONSGML v1.0//EN
CALSCALE:GREGORIAN
METHOD:PUBLISH
X-ORIGINAL-URL:https://sportsandsocial.com/bethesda
X-WR-CALDESC:Events for Sports &amp; Social Bethesda
REFRESH-INTERVAL;VALUE=DURATION:PT1H
X-Robots-Tag:noindex
X-PUBLISHED-TTL:PT1H
BEGIN:VTIMEZONE
TZID:America/New_York
BEGIN:DAYLIGHT
TZOFFSETFROM:-0500
TZOFFSETTO:-0400
TZNAME:EDT
DTSTART:20240310T070000
END:DAYLIGHT
BEGIN:STANDARD
TZOFFSETFROM:-0400
TZOFFSETTO:-0500
TZNAME:EST
DTSTART:20241103T060000
END:STANDARD
BEGIN:DAYLIGHT
TZOFFSETFROM:-0500
TZOFFSETTO:-0400
TZNAME:EDT
DTSTART:20250309T070000
END:DAYLIGHT
BEGIN:STANDARD
TZOFFSETFROM:-0400
TZOFFSETTO:-0500
TZNAME:EST
DTSTART:20251102T060000
END:STANDARD
BEGIN:DAYLIGHT
TZOFFSETFROM:-0500
TZOFFSETTO:-0400
TZNAME:EDT
DTSTART:20260308T070000
END:DAYLIGHT
BEGIN:STANDARD
TZOFFSETFROM:-0400
TZOFFSETTO:-0500
TZNAME:EST
DTSTART:20261101T060000
END:STANDARD
END:VTIMEZONE
BEGIN:VEVENT
DTSTART;TZID=America/New_York:20251015T180000
DTEND;TZID=America/New_York:20251015T180000
DTSTAMP:20260425T111613
CREATED:20250925T071401Z
LAST-MODIFIED:20250925T140919Z
UID:10000141-1760551200-1760551200@sportsandsocial.com
SUMMARY:Pups on the Pike - Spooky Edition
DESCRIPTION:Join us on Wednesday\, October 15 at 6pm with your four-legged friend(s) for an evening of pumpkin carving\, a doggy costume contest\, pup treats and swag\, drink specials\, and more!
URL:https://sportsandsocial.com/bethesda/event/pups-on-the-pike-spooky-edition/
END:VEVENT
END:VCALENDAR