BEGIN:VCALENDAR
VERSION:2.0
PRODID:-//Sports &amp; Social Cary - ECPv6.15.7//NONSGML v1.0//EN
CALSCALE:GREGORIAN
METHOD:PUBLISH
X-WR-CALNAME:Sports &amp; Social Cary
X-ORIGINAL-URL:https://sportsandsocial.com/cary
X-WR-CALDESC:Events for Sports &amp; Social Cary
REFRESH-INTERVAL;VALUE=DURATION:PT1H
X-Robots-Tag:noindex
X-PUBLISHED-TTL:PT1H
BEGIN:VTIMEZONE
TZID:America/New_York
BEGIN:DAYLIGHT
TZOFFSETFROM:-0500
TZOFFSETTO:-0400
TZNAME:EDT
DTSTART:20240310T070000
END:DAYLIGHT
BEGIN:STANDARD
TZOFFSETFROM:-0400
TZOFFSETTO:-0500
TZNAME:EST
DTSTART:20241103T060000
END:STANDARD
BEGIN:DAYLIGHT
TZOFFSETFROM:-0500
TZOFFSETTO:-0400
TZNAME:EDT
DTSTART:20250309T070000
END:DAYLIGHT
BEGIN:STANDARD
TZOFFSETFROM:-0400
TZOFFSETTO:-0500
TZNAME:EST
DTSTART:20251102T060000
END:STANDARD
BEGIN:DAYLIGHT
TZOFFSETFROM:-0500
TZOFFSETTO:-0400
TZNAME:EDT
DTSTART:20260308T070000
END:DAYLIGHT
BEGIN:STANDARD
TZOFFSETFROM:-0400
TZOFFSETTO:-0500
TZNAME:EST
DTSTART:20261101T060000
END:STANDARD
BEGIN:DAYLIGHT
TZOFFSETFROM:-0500
TZOFFSETTO:-0400
TZNAME:EDT
DTSTART:20270314T070000
END:DAYLIGHT
BEGIN:STANDARD
TZOFFSETFROM:-0400
TZOFFSETTO:-0500
TZNAME:EST
DTSTART:20271107T060000
END:STANDARD
END:VTIMEZONE
BEGIN:VEVENT
DTSTART;VALUE=DATE:20250830
DTEND;VALUE=DATE:20251228
DTSTAMP:20260420T183138
CREATED:20250820T191248Z
LAST-MODIFIED:20250820T191249Z
UID:10000729-1756512000-1766879999@sportsandsocial.com
SUMMARY:College Football Saturday
DESCRIPTION:College Football x Sports & Social = a duo unmatched! \nJoin us to cheer on your favorite teams on our massive 42-foot big screen this football season and enjoy delicious food\, drink specials and the ultimate gameday experience! \nSaturday Specials:  \n\n$20 Blue Moon Pitchers\n$20 Beer Buckets (Miller Lite/Coors Light/Coors Banquet)\n$20 Mimosa Buckets\n$40 Beer Towers (Miller Lite/Coors Light/Coors Banquet)\n$8 Wolfpack Crush Cocktail\n$8 Tarheel Crush Cocktail\n$5 Jello Shots\n\n 
URL:https://sportsandsocial.com/cary/event/college-football-saturday-6/
CATEGORIES:Events
ATTACH;FMTTYPE=image/jpeg:https://sportsandsocial.com/cary/wp-content/uploads/sites/8/2025/08/20.jpg
END:VEVENT
BEGIN:VEVENT
DTSTART;VALUE=DATE:20251118
DTEND;VALUE=DATE:20251231
DTSTAMP:20260420T183138
CREATED:20251113T200326Z
LAST-MODIFIED:20251113T200326Z
UID:10000760-1763424000-1767139199@sportsandsocial.com
SUMMARY:Give the Gift of Game Day!
DESCRIPTION:Share the Joy\, Earn a Bonus! \nThis holiday season\, earn bonus gift cards with every $50 or $100 purchase. \nAvailable through 12/30/25. \nBUY GIFT CARDS \n\n 
URL:https://sportsandsocial.com/cary/event/give-the-gift-of-game-day/
CATEGORIES:Events
ATTACH;FMTTYPE=image/jpeg:https://sportsandsocial.com/cary/wp-content/uploads/sites/8/2025/11/SS_HolidayGiftCardPromo_2025_DIGITAL_1920-x-1080-2.jpg
END:VEVENT
BEGIN:VEVENT
DTSTART;TZID=America/New_York:20251120T160000
DTEND;TZID=America/New_York:20251228T220000
DTSTAMP:20260420T183138
CREATED:20251013T185915Z
LAST-MODIFIED:20251223T135521Z
UID:10000754-1763654400-1766959200@sportsandsocial.com
SUMMARY:Tinsel Tavern
DESCRIPTION:Deck the halls! Tinsel Tavern is now open at Sports & Social Cary as an immersive holiday experience. Located in the Tavern space inside of Sports and Social in the Fenton development of Cary. The space will feature an explosion of tinsel and twinkling lights\, holiday-inspired cocktails and small bites\, several unique holiday photo opportunities and themed ticketed events. \nOpen Thursday\, November 20 – Sunday\, December 28 | Closed Thanksgiving Day (Nov. 27)\, Christmas Day (Dec. 25) \nHours of Operation:\nMonday: CLOSED\nTuesday-Thursday: 4PM – 10PM\nFriday-Saturday: 12PM-12AM\nSunday: 12PM-10PM\nChristmas Eve (Dec. 24): 12PM-7PM \nReservations for Tinsel Tavern are NOW AVAILABLE through December 28! \nReservations for Tinsel Tavern include a $5 entry fee per person and can be made upon arrival. \nBOOK A RESERVATION
URL:https://sportsandsocial.com/cary/event/tinsel-tavern/
CATEGORIES:Events
ATTACH;FMTTYPE=image/jpeg:https://sportsandsocial.com/cary/wp-content/uploads/sites/8/2023/10/Tinsel-Tavern-Photo-Opp-1-scaled.jpg
END:VEVENT
BEGIN:VEVENT
DTSTART;TZID=America/New_York:20251220T110000
DTEND;TZID=America/New_York:20261128T150000
DTSTAMP:20260420T183138
CREATED:20251215T160846Z
LAST-MODIFIED:20260222T071415Z
UID:10001944-1766228400-1795878000@sportsandsocial.com
SUMMARY:Weekend Brunch
DESCRIPTION:Weekends are made for brunch\, and if you’re searching for the best Cary brunch spot with unbeatable energy\, you’ve found it. Our Weekend Brunch\, served both Saturday and Sunday\, blends crave-worthy food\, flowing drinks\, and non-stop sports action – making us a top destination for brunch in the Triangle. \nKick things off with shareable mimosa buckets\, then dive into your favorite brunch dishes\, and sports on the big screen. Settle in\, relax\, and catch all the games on our massive 42-foot big screen while you brunch. It’s the perfect mix of high-energy sports bar and must-visit Triangle brunch destination. Not wanting brunch\, don’t worry\, we have a variety of dishes on the menu to please a crowd. \nAvailable every Saturday and Sunday from 11am-3pm\, our Weekend Brunch is ideal for fans\, food lovers\, and anyone looking for standout brunch spots in Cary and the Triangle. Gather your crew\, grab your table\, and make brunch the main event this weekend. \nCheck out our menu and make your reservations on OpenTable.
URL:https://sportsandsocial.com/cary/event/weekend-brunch/
CATEGORIES:Events,Food and Drink
ATTACH;FMTTYPE=image/jpeg:https://sportsandsocial.com/cary/wp-content/uploads/sites/8/2025/12/Sports-Social-National-Content-65-scaled.jpg
END:VEVENT
END:VCALENDAR