BEGIN:VCALENDAR
VERSION:2.0
PRODID:-//Sports &amp; Social Cary - ECPv6.15.7//NONSGML v1.0//EN
CALSCALE:GREGORIAN
METHOD:PUBLISH
X-WR-CALNAME:Sports &amp; Social Cary
X-ORIGINAL-URL:https://sportsandsocial.com/cary
X-WR-CALDESC:Events for Sports &amp; Social Cary
REFRESH-INTERVAL;VALUE=DURATION:PT1H
X-Robots-Tag:noindex
X-PUBLISHED-TTL:PT1H
BEGIN:VTIMEZONE
TZID:America/New_York
BEGIN:DAYLIGHT
TZOFFSETFROM:-0500
TZOFFSETTO:-0400
TZNAME:EDT
DTSTART:20240310T070000
END:DAYLIGHT
BEGIN:STANDARD
TZOFFSETFROM:-0400
TZOFFSETTO:-0500
TZNAME:EST
DTSTART:20241103T060000
END:STANDARD
BEGIN:DAYLIGHT
TZOFFSETFROM:-0500
TZOFFSETTO:-0400
TZNAME:EDT
DTSTART:20250309T070000
END:DAYLIGHT
BEGIN:STANDARD
TZOFFSETFROM:-0400
TZOFFSETTO:-0500
TZNAME:EST
DTSTART:20251102T060000
END:STANDARD
BEGIN:DAYLIGHT
TZOFFSETFROM:-0500
TZOFFSETTO:-0400
TZNAME:EDT
DTSTART:20260308T070000
END:DAYLIGHT
BEGIN:STANDARD
TZOFFSETFROM:-0400
TZOFFSETTO:-0500
TZNAME:EST
DTSTART:20261101T060000
END:STANDARD
BEGIN:DAYLIGHT
TZOFFSETFROM:-0500
TZOFFSETTO:-0400
TZNAME:EDT
DTSTART:20270314T070000
END:DAYLIGHT
BEGIN:STANDARD
TZOFFSETFROM:-0400
TZOFFSETTO:-0500
TZNAME:EST
DTSTART:20271107T060000
END:STANDARD
END:VTIMEZONE
BEGIN:VEVENT
DTSTART;TZID=America/New_York:20251220T110000
DTEND;TZID=America/New_York:20261128T150000
DTSTAMP:20260420T103807
CREATED:20251215T160846Z
LAST-MODIFIED:20260222T071415Z
UID:10001944-1766228400-1795878000@sportsandsocial.com
SUMMARY:Weekend Brunch
DESCRIPTION:Weekends are made for brunch\, and if you’re searching for the best Cary brunch spot with unbeatable energy\, you’ve found it. Our Weekend Brunch\, served both Saturday and Sunday\, blends crave-worthy food\, flowing drinks\, and non-stop sports action – making us a top destination for brunch in the Triangle. \nKick things off with shareable mimosa buckets\, then dive into your favorite brunch dishes\, and sports on the big screen. Settle in\, relax\, and catch all the games on our massive 42-foot big screen while you brunch. It’s the perfect mix of high-energy sports bar and must-visit Triangle brunch destination. Not wanting brunch\, don’t worry\, we have a variety of dishes on the menu to please a crowd. \nAvailable every Saturday and Sunday from 11am-3pm\, our Weekend Brunch is ideal for fans\, food lovers\, and anyone looking for standout brunch spots in Cary and the Triangle. Gather your crew\, grab your table\, and make brunch the main event this weekend. \nCheck out our menu and make your reservations on OpenTable.
URL:https://sportsandsocial.com/cary/event/weekend-brunch/
CATEGORIES:Events,Food and Drink
ATTACH;FMTTYPE=image/jpeg:https://sportsandsocial.com/cary/wp-content/uploads/sites/8/2025/12/Sports-Social-National-Content-65-scaled.jpg
END:VEVENT
BEGIN:VEVENT
DTSTART;VALUE=DATE:20260309
DTEND;VALUE=DATE:20261229
DTSTAMP:20260420T103807
CREATED:20260306T042557Z
LAST-MODIFIED:20260306T042557Z
UID:10002752-1773014400-1798502399@sportsandsocial.com
SUMMARY:Monday Night Music Bingo
DESCRIPTION:Make the Start of the Week a Little More Fun with Monday Night Music Bingo  \nMondays don’t have to feel like… well\, Mondays. Join us for Music Bingo every Monday at 7 PM and turn the start of the week into something worth going out for. \nGrab your crew\, settle in for dinner\, and play along as your bingo card fills with hit songs from every era and genre. Each week features different playlists and prizes\, so there’s always a new challenge waiting. \nEvery Monday\, 7:00 PM \nMake us your new favorite weekly dinner ritual in Cary. \nRESERVE YOUR TABLE \nStay tuned for more information on watch parties\, giveaways and events throughout the season. \nSIGN UP ON OUR VIP LIST – You’ll get invited to exclusive events\, food and drink specials\, and the ultimate fan VIP treatment. \n 
URL:https://sportsandsocial.com/cary/event/monday-night-music-bingo/
CATEGORIES:Events,Food and Drink
ATTACH;FMTTYPE=image/jpeg:https://sportsandsocial.com/cary/wp-content/uploads/sites/8/2026/03/2.jpg
END:VEVENT
BEGIN:VEVENT
DTSTART;VALUE=DATE:20260311
DTEND;VALUE=DATE:20261231
DTSTAMP:20260420T103807
CREATED:20260306T032702Z
LAST-MODIFIED:20260306T033342Z
UID:10002490-1773187200-1798675199@sportsandsocial.com
SUMMARY:Wednesday Night Trivia
DESCRIPTION:Break up the week with Wednesday Night Trivia  \nGrab your crew\, grab a drink\, and put your knowledge to the test. Each week features new trivia themes\, rotating games\, and different prizes\, so every Wednesday brings a fresh challenge. \nEvery Wednesday\, 7:00 PM \nCatch the games on massive screens\, enjoy food and drink specials\, and turn your midweek night into something worth getting out for. \nCome for dinner. Stay for drinks. Reserve your table and make Wednesday your new favorite night out. \nStay tuned for more watch parties\, giveaways\, and special events happening all season long. \nRESERVE YOUR TABLE \nStay tuned for more information on watch parties\, giveaways and events throughout the season. \nSIGN UP ON OUR VIP LIST – You’ll get invited to exclusive events\, food and drink specials\, and the ultimate fan VIP treatment. \n 
URL:https://sportsandsocial.com/cary/event/wednesday-night-trivia/
CATEGORIES:Events,Food and Drink
ATTACH;FMTTYPE=image/jpeg:https://sportsandsocial.com/cary/wp-content/uploads/sites/8/2026/03/1.jpg
END:VEVENT
END:VCALENDAR