BEGIN:VCALENDAR
VERSION:2.0
PRODID:-//Sports &amp; Social Cary - ECPv6.15.7//NONSGML v1.0//EN
CALSCALE:GREGORIAN
METHOD:PUBLISH
X-ORIGINAL-URL:https://sportsandsocial.com/cary
X-WR-CALDESC:Events for Sports &amp; Social Cary
REFRESH-INTERVAL;VALUE=DURATION:PT1H
X-Robots-Tag:noindex
X-PUBLISHED-TTL:PT1H
BEGIN:VTIMEZONE
TZID:America/New_York
BEGIN:DAYLIGHT
TZOFFSETFROM:-0500
TZOFFSETTO:-0400
TZNAME:EDT
DTSTART:20230312T070000
END:DAYLIGHT
BEGIN:STANDARD
TZOFFSETFROM:-0400
TZOFFSETTO:-0500
TZNAME:EST
DTSTART:20231105T060000
END:STANDARD
BEGIN:DAYLIGHT
TZOFFSETFROM:-0500
TZOFFSETTO:-0400
TZNAME:EDT
DTSTART:20240310T070000
END:DAYLIGHT
BEGIN:STANDARD
TZOFFSETFROM:-0400
TZOFFSETTO:-0500
TZNAME:EST
DTSTART:20241103T060000
END:STANDARD
BEGIN:DAYLIGHT
TZOFFSETFROM:-0500
TZOFFSETTO:-0400
TZNAME:EDT
DTSTART:20250309T070000
END:DAYLIGHT
BEGIN:STANDARD
TZOFFSETFROM:-0400
TZOFFSETTO:-0500
TZNAME:EST
DTSTART:20251102T060000
END:STANDARD
END:VTIMEZONE
BEGIN:VEVENT
DTSTART;VALUE=DATE:20241102
DTEND;VALUE=DATE:20241103
DTSTAMP:20260425T212417
CREATED:20241028T201744Z
LAST-MODIFIED:20241028T201744Z
UID:10000643-1730505600-1730591999@sportsandsocial.com
SUMMARY:College Football Saturday
DESCRIPTION:College Football 🤝 Sports & Social\nCheer on your favorite teams with us! No matter the team\, we got you covered with an elevated sports watch experience! Enjoy good food\, delicious drinks and watching your team on our 42 FOOT big screen TV! 🤩 \nReserve your table HERE
URL:https://sportsandsocial.com/cary/event/college-football-saturday-5/
CATEGORIES:Premium Table Reservations
END:VEVENT
BEGIN:VEVENT
DTSTART;TZID=America/New_York:20241102T160000
DTEND;TZID=America/New_York:20241102T180000
DTSTAMP:20260425T212417
CREATED:20241028T200333Z
LAST-MODIFIED:20241028T201112Z
UID:10000642-1730563200-1730570400@sportsandsocial.com
SUMMARY:Real Madrid Watch Party
DESCRIPTION:Join us as we partner with “Peña Madridista del Triangulo” to watch Real Madrid take on Valencia CF. \nDon’t miss a second of the action with 65+ televisions and a 42-foot LED screen! We’re calling all fans to gather round for an experience you can’t get anywhere else! \nReserve your table HERE
URL:https://sportsandsocial.com/cary/event/real-madrid-watch-party-3/
CATEGORIES:Premium Table Reservations
ATTACH;FMTTYPE=image/jpeg:https://sportsandsocial.com/cary/wp-content/uploads/sites/8/2024/10/462741150_122133992594358687_4757089313855346025_n.jpg
END:VEVENT
END:VCALENDAR