BEGIN:VCALENDAR
VERSION:2.0
PRODID:-//Sports &amp; Social Cary - ECPv6.15.7//NONSGML v1.0//EN
CALSCALE:GREGORIAN
METHOD:PUBLISH
X-ORIGINAL-URL:https://sportsandsocial.com/cary
X-WR-CALDESC:Events for Sports &amp; Social Cary
REFRESH-INTERVAL;VALUE=DURATION:PT1H
X-Robots-Tag:noindex
X-PUBLISHED-TTL:PT1H
BEGIN:VTIMEZONE
TZID:America/New_York
BEGIN:DAYLIGHT
TZOFFSETFROM:-0500
TZOFFSETTO:-0400
TZNAME:EDT
DTSTART:20250309T070000
END:DAYLIGHT
BEGIN:STANDARD
TZOFFSETFROM:-0400
TZOFFSETTO:-0500
TZNAME:EST
DTSTART:20251102T060000
END:STANDARD
BEGIN:DAYLIGHT
TZOFFSETFROM:-0500
TZOFFSETTO:-0400
TZNAME:EDT
DTSTART:20260308T070000
END:DAYLIGHT
BEGIN:STANDARD
TZOFFSETFROM:-0400
TZOFFSETTO:-0500
TZNAME:EST
DTSTART:20261101T060000
END:STANDARD
BEGIN:DAYLIGHT
TZOFFSETFROM:-0500
TZOFFSETTO:-0400
TZNAME:EDT
DTSTART:20270314T070000
END:DAYLIGHT
BEGIN:STANDARD
TZOFFSETFROM:-0400
TZOFFSETTO:-0500
TZNAME:EST
DTSTART:20271107T060000
END:STANDARD
END:VTIMEZONE
BEGIN:VEVENT
DTSTART;TZID=America/New_York:20260612T210000
DTEND;TZID=America/New_York:20260612T230000
DTSTAMP:20260424T044255
CREATED:20260423T161449Z
LAST-MODIFIED:20260423T183008Z
UID:10003142-1781298000-1781305200@sportsandsocial.com
SUMMARY:USA vs. Paraguay Watch Party
DESCRIPTION:USA vs. Paraguay Watch Party | Friday\, June 12  \nYour World  Soccer Headquarters is calling. The biggest international soccer tournament is here and there’s no better place to experience it. \nJoin us on Friday\, June 12 at 9pm for the USA vs. Paraguay showdown and experience an atmosphere that feels like you’re right in the stadium at Sports & Social! \nRally your crew\, grab your gear\, and don’t miss a moment of the action! \nWHAT TO EXPECT:  \n\nGlobally inspired food and drink specials\nExciting giveaways and chances to score prizes\nUSA vs. Paraguay on our 42-ft big screen with sound\n\nOur late-night menu will also be available for late evening matches. \nCan’t make it? No worries – we’ll be showing every match all tournament long. Learn more about our World Soccer Watch Parties!  \nRESERVE YOUR TABLE \nStay tuned for more information on watch parties\, giveaways and events throughout the season. \nSIGN UP ON OUR VIP LIST – You’ll get invited to exclusive events\, food and drink specials\, and the ultimate fan VIP treatment. \n 
URL:https://sportsandsocial.com/cary/event/usa-vs-paraguay-watch-party/
CATEGORIES:Events
ATTACH;FMTTYPE=image/png:https://sportsandsocial.com/cary/wp-content/uploads/sites/8/2026/04/Cary-Website-Images-1440x1440-1.png
END:VEVENT
BEGIN:VEVENT
DTSTART;TZID=America/New_York:20260615T120000
DTEND;TZID=America/New_York:20260615T140000
DTSTAMP:20260424T044255
CREATED:20260423T164543Z
LAST-MODIFIED:20260423T182950Z
UID:10003145-1781524800-1781532000@sportsandsocial.com
SUMMARY:Spain vs. Cape Verde Watch Party
DESCRIPTION:Spain vs. Cape Verde  | June 15 \nYour World  Soccer Headquarters is calling. The biggest international soccer tournament is here and there’s no better place to experience it. \nJoin us on Monday\, June 15 at 12pm for the Spain vs. Cape Verde showdown and experience an atmosphere that feels like you’re right in the stadium at Sports & Social! \nRally your crew\, grab your gear\, and don’t miss a moment of the action! \nWHAT TO EXPECT:  \n\nGlobally inspired food and drink specials\nExciting giveaways and chances to score prizes\nSpain vs. Cape Verde on our 42-ft big screen with sound\n\nOur late-night menu will also be available for late evening matches. \nCan’t make it? No worries – we’ll be showing every match all tournament long. Learn more about our World Soccer Watch Parties!  \nRESERVE YOUR TABLE \nStay tuned for more information on watch parties\, giveaways and events throughout the season. \nSIGN UP ON OUR VIP LIST – You’ll get invited to exclusive events\, food and drink specials\, and the ultimate fan VIP treatment. \n 
URL:https://sportsandsocial.com/cary/event/spain-vs-cape-verde-watch-party/
CATEGORIES:Events
ATTACH;FMTTYPE=image/png:https://sportsandsocial.com/cary/wp-content/uploads/sites/8/2026/04/Generic-Soccer-1.png
END:VEVENT
BEGIN:VEVENT
DTSTART;TZID=America/New_York:20260616T210000
DTEND;TZID=America/New_York:20260616T230000
DTSTAMP:20260424T044255
CREATED:20260423T164717Z
LAST-MODIFIED:20260423T182927Z
UID:10003147-1781643600-1781650800@sportsandsocial.com
SUMMARY:Argentina vs. Algeria Watch Party
DESCRIPTION:Argentina vs. Algeria  | June 16 \nYour World  Soccer Headquarters is calling. The biggest international soccer tournament is here and there’s no better place to experience it. \nJoin us on Tuesday\, June 16 at 9pm for the Argentina vs. Algeria showdown and experience an atmosphere that feels like you’re right in the stadium at Sports & Social! \nRally your crew\, grab your gear\, and don’t miss a moment of the action! \nWHAT TO EXPECT:  \n\nGlobally inspired food and drink specials\nExciting giveaways and chances to score prizes\nArgentina vs. Algeria on our 42-ft big screen with sound\n\nOur late-night menu will also be available for late evening matches. \nCan’t make it? No worries – we’ll be showing every match all tournament long. Learn more about our World Soccer Watch Parties!  \nRESERVE YOUR TABLE \nStay tuned for more information on watch parties\, giveaways and events throughout the season. \nSIGN UP ON OUR VIP LIST – You’ll get invited to exclusive events\, food and drink specials\, and the ultimate fan VIP treatment. \n 
URL:https://sportsandsocial.com/cary/event/argentina-vs-algeria-watch-party/
CATEGORIES:Events
ATTACH;FMTTYPE=image/png:https://sportsandsocial.com/cary/wp-content/uploads/sites/8/2026/04/Generic-Soccer-1.png
END:VEVENT
BEGIN:VEVENT
DTSTART;TZID=America/New_York:20260617T220000
DTEND;TZID=America/New_York:20260617T233000
DTSTAMP:20260424T044255
CREATED:20260423T165103Z
LAST-MODIFIED:20260423T182910Z
UID:10003148-1781733600-1781739000@sportsandsocial.com
SUMMARY:Colombia vs. Uzbekistan Watch Party
DESCRIPTION:Colombia vs. Uzbekistan | June 17 \nYour World  Soccer Headquarters is calling. The biggest international soccer tournament is here and there’s no better place to experience it. \nJoin us on Wednesday\, June 17 at 10pm for the Colombia vs. Uzbekistan showdown and experience an atmosphere that feels like you’re right in the stadium at Sports & Social! \nRally your crew\, grab your gear\, and don’t miss a moment of the action! \nWHAT TO EXPECT:  \n\nGlobally inspired food and drink specials\nExciting giveaways and chances to score prizes\nColombia vs. Uzbekistan on our 42-ft big screen with sound\n\nOur late-night menu will also be available for late evening matches. \nCan’t make it? No worries – we’ll be showing every match all tournament long. Learn more about our World Soccer Watch Parties!  \nRESERVE YOUR TABLE \nStay tuned for more information on watch parties\, giveaways and events throughout the season. \nSIGN UP ON OUR VIP LIST – You’ll get invited to exclusive events\, food and drink specials\, and the ultimate fan VIP treatment. \n 
URL:https://sportsandsocial.com/cary/event/colombia-vs-uzbekistan-watch-party/
CATEGORIES:Events
ATTACH;FMTTYPE=image/png:https://sportsandsocial.com/cary/wp-content/uploads/sites/8/2026/04/Colombia-Soccer.png
END:VEVENT
BEGIN:VEVENT
DTSTART;TZID=America/New_York:20260618T210000
DTEND;TZID=America/New_York:20260618T230000
DTSTAMP:20260424T044255
CREATED:20260423T164305Z
LAST-MODIFIED:20260423T182852Z
UID:10003144-1781816400-1781823600@sportsandsocial.com
SUMMARY:Mexico vs. South Korea Watch Party
DESCRIPTION:Mexico vs. South Korea  | June 18 \nYour World  Soccer Headquarters is calling. The biggest international soccer tournament is here and there’s no better place to experience it. \nJoin us on Thursday\, June 18 at 9pm for the Mexico vs. South Korea showdown and experience an atmosphere that feels like you’re right in the stadium at Sports & Social! \nRally your crew\, grab your gear\, and don’t miss a moment of the action! \nWHAT TO EXPECT:  \n\nGlobally inspired food and drink specials\nExciting giveaways and chances to score prizes\nMexico vs. South Korea on our 42-ft big screen with sound\n\nOur late-night menu will also be available for late evening matches. \nCan’t make it? No worries – we’ll be showing every match all tournament long. Learn more about our World Soccer Watch Parties!  \nRESERVE YOUR TABLE \nStay tuned for more information on watch parties\, giveaways and events throughout the season. \nSIGN UP ON OUR VIP LIST – You’ll get invited to exclusive events\, food and drink specials\, and the ultimate fan VIP treatment. \n 
URL:https://sportsandsocial.com/cary/event/mexico-vs-south-korea-watch-party/
CATEGORIES:Events
ATTACH;FMTTYPE=image/png:https://sportsandsocial.com/cary/wp-content/uploads/sites/8/2026/04/Generic-Soccer-1.png
END:VEVENT
BEGIN:VEVENT
DTSTART;TZID=America/New_York:20260619T150000
DTEND;TZID=America/New_York:20260619T170000
DTSTAMP:20260424T044255
CREATED:20260423T162445Z
LAST-MODIFIED:20260423T182833Z
UID:10003143-1781881200-1781888400@sportsandsocial.com
SUMMARY:USA vs. Australia Watch Party
DESCRIPTION:USA vs. Australia Watch Party | Friday\, June 19 \nYour World  Soccer Headquarters is calling. The biggest international soccer tournament is here and there’s no better place to experience it. \nJoin us on Friday\, June 19 at 3pm for the USA vs. Australia showdown and experience an atmosphere that feels like you’re right in the stadium at Sports & Social! \nRally your crew\, grab your gear\, and don’t miss a moment of the action! \nWHAT TO EXPECT:  \n\nGlobally inspired food and drink specials\nExciting giveaways and chances to score prizes\nUSA vs. Australia on our 42-ft big screen with sound\n\nOur late-night menu will also be available for late evening matches. \nCan’t make it? No worries – we’ll be showing every match all tournament long. Learn more about our World Soccer Watch Parties!  \nRESERVE YOUR TABLE \nStay tuned for more information on watch parties\, giveaways and events throughout the season. \nSIGN UP ON OUR VIP LIST – You’ll get invited to exclusive events\, food and drink specials\, and the ultimate fan VIP treatment. \n 
URL:https://sportsandsocial.com/cary/event/usa-vs-australia-watch-party/
CATEGORIES:Events
ATTACH;FMTTYPE=image/png:https://sportsandsocial.com/cary/wp-content/uploads/sites/8/2026/04/Cary-Website-Images-1440x1440-1.png
END:VEVENT
END:VCALENDAR