BEGIN:VCALENDAR
VERSION:2.0
PRODID:-//Sports &amp; Social Cary - ECPv6.15.7//NONSGML v1.0//EN
CALSCALE:GREGORIAN
METHOD:PUBLISH
X-WR-CALNAME:Sports &amp; Social Cary
X-ORIGINAL-URL:https://sportsandsocial.com/cary
X-WR-CALDESC:Events for Sports &amp; Social Cary
REFRESH-INTERVAL;VALUE=DURATION:PT1H
X-Robots-Tag:noindex
X-PUBLISHED-TTL:PT1H
BEGIN:VTIMEZONE
TZID:America/New_York
BEGIN:DAYLIGHT
TZOFFSETFROM:-0500
TZOFFSETTO:-0400
TZNAME:EDT
DTSTART:20250309T070000
END:DAYLIGHT
BEGIN:STANDARD
TZOFFSETFROM:-0400
TZOFFSETTO:-0500
TZNAME:EST
DTSTART:20251102T060000
END:STANDARD
BEGIN:DAYLIGHT
TZOFFSETFROM:-0500
TZOFFSETTO:-0400
TZNAME:EDT
DTSTART:20260308T070000
END:DAYLIGHT
BEGIN:STANDARD
TZOFFSETFROM:-0400
TZOFFSETTO:-0500
TZNAME:EST
DTSTART:20261101T060000
END:STANDARD
BEGIN:DAYLIGHT
TZOFFSETFROM:-0500
TZOFFSETTO:-0400
TZNAME:EDT
DTSTART:20270314T070000
END:DAYLIGHT
BEGIN:STANDARD
TZOFFSETFROM:-0400
TZOFFSETTO:-0500
TZNAME:EST
DTSTART:20271107T060000
END:STANDARD
END:VTIMEZONE
BEGIN:VEVENT
DTSTART;TZID=America/New_York:20260425T150000
DTEND;TZID=America/New_York:20260425T170000
DTSTAMP:20260423T232142
CREATED:20260423T184555Z
LAST-MODIFIED:20260423T184555Z
UID:10003150-1777129200-1777136400@sportsandsocial.com
SUMMARY:Round 1 Game 4 Carolina Hockey Away Watch Party
DESCRIPTION:It’s PLAYOFF HOCKEY time\, folks! \nGet decked out in your RED and BLACK and join us for playoff watch parties during EVERY Carolina away game! \nWHAT TO EXPECT:  \n\nCarolina hockey on our 42-ft big screen with sound\nState-of-the-Art AV technology with lights\, cameras\, and an emcee\nChance to sound the siren\n$5 Jägermeister shots\, $10 Jägermeister bombs\, and Cat 5 Crush specialty cocktail\n$40 beer towers (Miller Lite / Coors Light / Coors Banquet)\n\nRESERVE YOUR TABLE 
URL:https://sportsandsocial.com/cary/event/round-1-game-4-carolina-hockey-away-watch-party-2/
CATEGORIES:Events
ATTACH;FMTTYPE=image/jpeg:https://sportsandsocial.com/cary/wp-content/uploads/sites/8/2026/04/Sports-Social-National-Content-17.jpg
END:VEVENT
END:VCALENDAR