BEGIN:VCALENDAR
VERSION:2.0
PRODID:-//Sports &amp; Social Cary - ECPv6.15.7//NONSGML v1.0//EN
CALSCALE:GREGORIAN
METHOD:PUBLISH
X-WR-CALNAME:Sports &amp; Social Cary
X-ORIGINAL-URL:https://sportsandsocial.com/cary
X-WR-CALDESC:Events for Sports &amp; Social Cary
REFRESH-INTERVAL;VALUE=DURATION:PT1H
X-Robots-Tag:noindex
X-PUBLISHED-TTL:PT1H
BEGIN:VTIMEZONE
TZID:America/New_York
BEGIN:DAYLIGHT
TZOFFSETFROM:-0500
TZOFFSETTO:-0400
TZNAME:EDT
DTSTART:20240310T070000
END:DAYLIGHT
BEGIN:STANDARD
TZOFFSETFROM:-0400
TZOFFSETTO:-0500
TZNAME:EST
DTSTART:20241103T060000
END:STANDARD
BEGIN:DAYLIGHT
TZOFFSETFROM:-0500
TZOFFSETTO:-0400
TZNAME:EDT
DTSTART:20250309T070000
END:DAYLIGHT
BEGIN:STANDARD
TZOFFSETFROM:-0400
TZOFFSETTO:-0500
TZNAME:EST
DTSTART:20251102T060000
END:STANDARD
BEGIN:DAYLIGHT
TZOFFSETFROM:-0500
TZOFFSETTO:-0400
TZNAME:EDT
DTSTART:20260308T070000
END:DAYLIGHT
BEGIN:STANDARD
TZOFFSETFROM:-0400
TZOFFSETTO:-0500
TZNAME:EST
DTSTART:20261101T060000
END:STANDARD
END:VTIMEZONE
BEGIN:VEVENT
DTSTART;TZID=America/New_York:20251120T160000
DTEND;TZID=America/New_York:20251228T220000
DTSTAMP:20260420T181129
CREATED:20251013T185915Z
LAST-MODIFIED:20251223T135521Z
UID:10000754-1763654400-1766959200@sportsandsocial.com
SUMMARY:Tinsel Tavern
DESCRIPTION:Deck the halls! Tinsel Tavern is now open at Sports & Social Cary as an immersive holiday experience. Located in the Tavern space inside of Sports and Social in the Fenton development of Cary. The space will feature an explosion of tinsel and twinkling lights\, holiday-inspired cocktails and small bites\, several unique holiday photo opportunities and themed ticketed events. \nOpen Thursday\, November 20 – Sunday\, December 28 | Closed Thanksgiving Day (Nov. 27)\, Christmas Day (Dec. 25) \nHours of Operation:\nMonday: CLOSED\nTuesday-Thursday: 4PM – 10PM\nFriday-Saturday: 12PM-12AM\nSunday: 12PM-10PM\nChristmas Eve (Dec. 24): 12PM-7PM \nReservations for Tinsel Tavern are NOW AVAILABLE through December 28! \nReservations for Tinsel Tavern include a $5 entry fee per person and can be made upon arrival. \nBOOK A RESERVATION
URL:https://sportsandsocial.com/cary/event/tinsel-tavern/
CATEGORIES:Events
ATTACH;FMTTYPE=image/jpeg:https://sportsandsocial.com/cary/wp-content/uploads/sites/8/2023/10/Tinsel-Tavern-Photo-Opp-1-scaled.jpg
END:VEVENT
END:VCALENDAR