BEGIN:VCALENDAR
VERSION:2.0
PRODID:-//Sports &amp; Social Columbus - ECPv6.15.7//NONSGML v1.0//EN
CALSCALE:GREGORIAN
METHOD:PUBLISH
X-WR-CALNAME:Sports &amp; Social Columbus
X-ORIGINAL-URL:https://sportsandsocial.com/columbus
X-WR-CALDESC:Events for Sports &amp; Social Columbus
REFRESH-INTERVAL;VALUE=DURATION:PT1H
X-Robots-Tag:noindex
X-PUBLISHED-TTL:PT1H
BEGIN:VTIMEZONE
TZID:America/New_York
BEGIN:DAYLIGHT
TZOFFSETFROM:-0500
TZOFFSETTO:-0400
TZNAME:EDT
DTSTART:20250309T070000
END:DAYLIGHT
BEGIN:STANDARD
TZOFFSETFROM:-0400
TZOFFSETTO:-0500
TZNAME:EST
DTSTART:20251102T060000
END:STANDARD
BEGIN:DAYLIGHT
TZOFFSETFROM:-0500
TZOFFSETTO:-0400
TZNAME:EDT
DTSTART:20260308T070000
END:DAYLIGHT
BEGIN:STANDARD
TZOFFSETFROM:-0400
TZOFFSETTO:-0500
TZNAME:EST
DTSTART:20261101T060000
END:STANDARD
BEGIN:DAYLIGHT
TZOFFSETFROM:-0500
TZOFFSETTO:-0400
TZNAME:EDT
DTSTART:20270314T070000
END:DAYLIGHT
BEGIN:STANDARD
TZOFFSETFROM:-0400
TZOFFSETTO:-0500
TZNAME:EST
DTSTART:20271107T060000
END:STANDARD
END:VTIMEZONE
BEGIN:VEVENT
DTSTART;VALUE=DATE:20260305
DTEND;VALUE=DATE:20260309
DTSTAMP:20260421T092401
CREATED:20251222T172937Z
LAST-MODIFIED:20251222T172937Z
UID:10000673-1772668800-1773014399@sportsandsocial.com
SUMMARY:Arnold Classic
DESCRIPTION:After a hard day’s work at the Arnold\, come hang at DraftKings Sports & Social\, just steps away from the convention.
URL:https://sportsandsocial.com/columbus/event/arnold-classic-2/
END:VEVENT
BEGIN:VEVENT
DTSTART;VALUE=DATE:20260307
DTEND;VALUE=DATE:20260308
DTSTAMP:20260421T092401
CREATED:20260112T174002Z
LAST-MODIFIED:20260113T172252Z
UID:10000679-1772841600-1772927999@sportsandsocial.com
SUMMARY:UFC 326
DESCRIPTION:Catch every punch\, kick\, and knockout at DraftKings Sports & Social — your go-to destination for UFC fight nights in Columbus. We show all major cards with full fight sound on the biggest TV wall in the city\, so you won’t miss a second of the action. \nFuel the night with fight-night drink specials\, including $5 Jäger shots\, plus great food and group-friendly seating. Whether you’re rolling in with your gym\, your crew\, or flying solo\, this is the best place to experience UFC the way it’s meant to be watched — loud\, high-energy\, and surrounded by fellow fight fans. \nReserve a table for the best seats and make fight night a knockout.
URL:https://sportsandsocial.com/columbus/event/ufc-326/
END:VEVENT
END:VCALENDAR