BEGIN:VCALENDAR
VERSION:2.0
PRODID:-//Sports &amp; Social Washington DC - ECPv6.15.7//NONSGML v1.0//EN
CALSCALE:GREGORIAN
METHOD:PUBLISH
X-WR-CALNAME:Sports &amp; Social Washington DC
X-ORIGINAL-URL:https://sportsandsocial.com/dc
X-WR-CALDESC:Events for Sports &amp; Social Washington DC
REFRESH-INTERVAL;VALUE=DURATION:PT1H
X-Robots-Tag:noindex
X-PUBLISHED-TTL:PT1H
BEGIN:VTIMEZONE
TZID:America/New_York
BEGIN:DAYLIGHT
TZOFFSETFROM:-0500
TZOFFSETTO:-0400
TZNAME:EDT
DTSTART:20250309T070000
END:DAYLIGHT
BEGIN:STANDARD
TZOFFSETFROM:-0400
TZOFFSETTO:-0500
TZNAME:EST
DTSTART:20251102T060000
END:STANDARD
BEGIN:DAYLIGHT
TZOFFSETFROM:-0500
TZOFFSETTO:-0400
TZNAME:EDT
DTSTART:20260308T070000
END:DAYLIGHT
BEGIN:STANDARD
TZOFFSETFROM:-0400
TZOFFSETTO:-0500
TZNAME:EST
DTSTART:20261101T060000
END:STANDARD
BEGIN:DAYLIGHT
TZOFFSETFROM:-0500
TZOFFSETTO:-0400
TZNAME:EDT
DTSTART:20270314T070000
END:DAYLIGHT
BEGIN:STANDARD
TZOFFSETFROM:-0400
TZOFFSETTO:-0500
TZNAME:EST
DTSTART:20271107T060000
END:STANDARD
END:VTIMEZONE
BEGIN:VEVENT
DTSTART;TZID=America/New_York:20260307T190000
DTEND;TZID=America/New_York:20260307T230000
DTSTAMP:20260420T041935
CREATED:20260220T204321Z
LAST-MODIFIED:20260220T204321Z
UID:10000513-1772910000-1772924400@sportsandsocial.com
SUMMARY:UFC 326 WATCH PARTY PRESENTED BY JÄGERMEISTER
DESCRIPTION:Catch Holloway vs. Oliveira as two of the most dangerous strikers in the UFC run it back in a main event that promises nonstop action. \nFrom the opening prelim to the final round\, we’re showing every fight live on wall-to-wall screens with full sound for the main card\, so you won’t miss a single knockout\, submission\, or scorecard moment. \nLOCK IN YOUR TABLE \nPresented by Jägermeister
URL:https://sportsandsocial.com/dc/event/ufc-326-watch-party-presented-by-jagermeister/
END:VEVENT
BEGIN:VEVENT
DTSTART;TZID=America/New_York:20260315T000000
DTEND;TZID=America/New_York:20260317T113700
DTSTAMP:20260420T041935
CREATED:20260311T161955Z
LAST-MODIFIED:20260317T154218Z
UID:10000514-1773532800-1773747420@sportsandsocial.com
SUMMARY:March Hoops
DESCRIPTION:MARCH HOOPS IS HERE \nFrom the First Round through the championship\, we are your headquarters for wall-to-wall college basketball action. With plenty of TVs throughout the venue\, you will never miss a big play\, upset or overtime thriller. Whether you are riding with your alma mater\, tracking your bracket or just in it for the drama\, this is where the tournament comes alive. \nAll the games. All the action. All tournament long. \nTOURNAMENT DRINK SPECIALS\nValid 3/15 – 4/6 \n$15 Domestic Beer Buckets\n$8 Surfsides\n$8 Statesides \nGather your crew\, claim your table early and make Sports & Social your home court for every round. We will have the volume up\, the drinks flowing and every game on all tournament long.
URL:https://sportsandsocial.com/dc/event/march-hoops-2/2026-03-15/
ATTACH;FMTTYPE=image/png:https://sportsandsocial.com/dc/wp-content/uploads/sites/19/2026/03/pick3-sq-e1772563022706.png
END:VEVENT
BEGIN:VEVENT
DTSTART;TZID=America/New_York:20260316T000000
DTEND;TZID=America/New_York:20260318T113700
DTSTAMP:20260420T041935
CREATED:20260311T161955Z
LAST-MODIFIED:20260317T154218Z
UID:10000515-1773619200-1773833820@sportsandsocial.com
SUMMARY:March Hoops
DESCRIPTION:MARCH HOOPS IS HERE \nFrom the First Round through the championship\, we are your headquarters for wall-to-wall college basketball action. With plenty of TVs throughout the venue\, you will never miss a big play\, upset or overtime thriller. Whether you are riding with your alma mater\, tracking your bracket or just in it for the drama\, this is where the tournament comes alive. \nAll the games. All the action. All tournament long. \nTOURNAMENT DRINK SPECIALS\nValid 3/15 – 4/6 \n$15 Domestic Beer Buckets\n$8 Surfsides\n$8 Statesides \nGather your crew\, claim your table early and make Sports & Social your home court for every round. We will have the volume up\, the drinks flowing and every game on all tournament long.
URL:https://sportsandsocial.com/dc/event/march-hoops-2/2026-03-16/
ATTACH;FMTTYPE=image/png:https://sportsandsocial.com/dc/wp-content/uploads/sites/19/2026/03/pick3-sq-e1772563022706.png
END:VEVENT
BEGIN:VEVENT
DTSTART;TZID=America/New_York:20260317T000000
DTEND;TZID=America/New_York:20260319T113700
DTSTAMP:20260420T041935
CREATED:20260311T161955Z
LAST-MODIFIED:20260317T154218Z
UID:10000516-1773705600-1773920220@sportsandsocial.com
SUMMARY:March Hoops
DESCRIPTION:MARCH HOOPS IS HERE \nFrom the First Round through the championship\, we are your headquarters for wall-to-wall college basketball action. With plenty of TVs throughout the venue\, you will never miss a big play\, upset or overtime thriller. Whether you are riding with your alma mater\, tracking your bracket or just in it for the drama\, this is where the tournament comes alive. \nAll the games. All the action. All tournament long. \nTOURNAMENT DRINK SPECIALS\nValid 3/15 – 4/6 \n$15 Domestic Beer Buckets\n$8 Surfsides\n$8 Statesides \nGather your crew\, claim your table early and make Sports & Social your home court for every round. We will have the volume up\, the drinks flowing and every game on all tournament long.
URL:https://sportsandsocial.com/dc/event/march-hoops-2/2026-03-17/
ATTACH;FMTTYPE=image/png:https://sportsandsocial.com/dc/wp-content/uploads/sites/19/2026/03/pick3-sq-e1772563022706.png
END:VEVENT
BEGIN:VEVENT
DTSTART;TZID=America/New_York:20260318T000000
DTEND;TZID=America/New_York:20260320T113700
DTSTAMP:20260420T041935
CREATED:20260311T161955Z
LAST-MODIFIED:20260317T154218Z
UID:10000517-1773792000-1774006620@sportsandsocial.com
SUMMARY:March Hoops
DESCRIPTION:MARCH HOOPS IS HERE \nFrom the First Round through the championship\, we are your headquarters for wall-to-wall college basketball action. With plenty of TVs throughout the venue\, you will never miss a big play\, upset or overtime thriller. Whether you are riding with your alma mater\, tracking your bracket or just in it for the drama\, this is where the tournament comes alive. \nAll the games. All the action. All tournament long. \nTOURNAMENT DRINK SPECIALS\nValid 3/15 – 4/6 \n$15 Domestic Beer Buckets\n$8 Surfsides\n$8 Statesides \nGather your crew\, claim your table early and make Sports & Social your home court for every round. We will have the volume up\, the drinks flowing and every game on all tournament long.
URL:https://sportsandsocial.com/dc/event/march-hoops-2/2026-03-18/
ATTACH;FMTTYPE=image/png:https://sportsandsocial.com/dc/wp-content/uploads/sites/19/2026/03/pick3-sq-e1772563022706.png
END:VEVENT
BEGIN:VEVENT
DTSTART;TZID=America/New_York:20260319T000000
DTEND;TZID=America/New_York:20260321T113700
DTSTAMP:20260420T041935
CREATED:20260311T161955Z
LAST-MODIFIED:20260317T154218Z
UID:10000518-1773878400-1774093020@sportsandsocial.com
SUMMARY:March Hoops
DESCRIPTION:MARCH HOOPS IS HERE \nFrom the First Round through the championship\, we are your headquarters for wall-to-wall college basketball action. With plenty of TVs throughout the venue\, you will never miss a big play\, upset or overtime thriller. Whether you are riding with your alma mater\, tracking your bracket or just in it for the drama\, this is where the tournament comes alive. \nAll the games. All the action. All tournament long. \nTOURNAMENT DRINK SPECIALS\nValid 3/15 – 4/6 \n$15 Domestic Beer Buckets\n$8 Surfsides\n$8 Statesides \nGather your crew\, claim your table early and make Sports & Social your home court for every round. We will have the volume up\, the drinks flowing and every game on all tournament long.
URL:https://sportsandsocial.com/dc/event/march-hoops-2/2026-03-19/
ATTACH;FMTTYPE=image/png:https://sportsandsocial.com/dc/wp-content/uploads/sites/19/2026/03/pick3-sq-e1772563022706.png
END:VEVENT
BEGIN:VEVENT
DTSTART;TZID=America/New_York:20260320T000000
DTEND;TZID=America/New_York:20260322T113700
DTSTAMP:20260420T041935
CREATED:20260311T161955Z
LAST-MODIFIED:20260317T154218Z
UID:10000519-1773964800-1774179420@sportsandsocial.com
SUMMARY:March Hoops
DESCRIPTION:MARCH HOOPS IS HERE \nFrom the First Round through the championship\, we are your headquarters for wall-to-wall college basketball action. With plenty of TVs throughout the venue\, you will never miss a big play\, upset or overtime thriller. Whether you are riding with your alma mater\, tracking your bracket or just in it for the drama\, this is where the tournament comes alive. \nAll the games. All the action. All tournament long. \nTOURNAMENT DRINK SPECIALS\nValid 3/15 – 4/6 \n$15 Domestic Beer Buckets\n$8 Surfsides\n$8 Statesides \nGather your crew\, claim your table early and make Sports & Social your home court for every round. We will have the volume up\, the drinks flowing and every game on all tournament long.
URL:https://sportsandsocial.com/dc/event/march-hoops-2/2026-03-20/
ATTACH;FMTTYPE=image/png:https://sportsandsocial.com/dc/wp-content/uploads/sites/19/2026/03/pick3-sq-e1772563022706.png
END:VEVENT
BEGIN:VEVENT
DTSTART;TZID=America/New_York:20260321T000000
DTEND;TZID=America/New_York:20260323T113700
DTSTAMP:20260420T041935
CREATED:20260311T161955Z
LAST-MODIFIED:20260317T154218Z
UID:10000520-1774051200-1774265820@sportsandsocial.com
SUMMARY:March Hoops
DESCRIPTION:MARCH HOOPS IS HERE \nFrom the First Round through the championship\, we are your headquarters for wall-to-wall college basketball action. With plenty of TVs throughout the venue\, you will never miss a big play\, upset or overtime thriller. Whether you are riding with your alma mater\, tracking your bracket or just in it for the drama\, this is where the tournament comes alive. \nAll the games. All the action. All tournament long. \nTOURNAMENT DRINK SPECIALS\nValid 3/15 – 4/6 \n$15 Domestic Beer Buckets\n$8 Surfsides\n$8 Statesides \nGather your crew\, claim your table early and make Sports & Social your home court for every round. We will have the volume up\, the drinks flowing and every game on all tournament long.
URL:https://sportsandsocial.com/dc/event/march-hoops-2/2026-03-21/
ATTACH;FMTTYPE=image/png:https://sportsandsocial.com/dc/wp-content/uploads/sites/19/2026/03/pick3-sq-e1772563022706.png
END:VEVENT
BEGIN:VEVENT
DTSTART;TZID=America/New_York:20260322T000000
DTEND;TZID=America/New_York:20260324T113700
DTSTAMP:20260420T041935
CREATED:20260311T161955Z
LAST-MODIFIED:20260317T154218Z
UID:10000521-1774137600-1774352220@sportsandsocial.com
SUMMARY:March Hoops
DESCRIPTION:MARCH HOOPS IS HERE \nFrom the First Round through the championship\, we are your headquarters for wall-to-wall college basketball action. With plenty of TVs throughout the venue\, you will never miss a big play\, upset or overtime thriller. Whether you are riding with your alma mater\, tracking your bracket or just in it for the drama\, this is where the tournament comes alive. \nAll the games. All the action. All tournament long. \nTOURNAMENT DRINK SPECIALS\nValid 3/15 – 4/6 \n$15 Domestic Beer Buckets\n$8 Surfsides\n$8 Statesides \nGather your crew\, claim your table early and make Sports & Social your home court for every round. We will have the volume up\, the drinks flowing and every game on all tournament long.
URL:https://sportsandsocial.com/dc/event/march-hoops-2/2026-03-22/
ATTACH;FMTTYPE=image/png:https://sportsandsocial.com/dc/wp-content/uploads/sites/19/2026/03/pick3-sq-e1772563022706.png
END:VEVENT
BEGIN:VEVENT
DTSTART;TZID=America/New_York:20260323T000000
DTEND;TZID=America/New_York:20260325T113700
DTSTAMP:20260420T041935
CREATED:20260311T161955Z
LAST-MODIFIED:20260317T154218Z
UID:10000522-1774224000-1774438620@sportsandsocial.com
SUMMARY:March Hoops
DESCRIPTION:MARCH HOOPS IS HERE \nFrom the First Round through the championship\, we are your headquarters for wall-to-wall college basketball action. With plenty of TVs throughout the venue\, you will never miss a big play\, upset or overtime thriller. Whether you are riding with your alma mater\, tracking your bracket or just in it for the drama\, this is where the tournament comes alive. \nAll the games. All the action. All tournament long. \nTOURNAMENT DRINK SPECIALS\nValid 3/15 – 4/6 \n$15 Domestic Beer Buckets\n$8 Surfsides\n$8 Statesides \nGather your crew\, claim your table early and make Sports & Social your home court for every round. We will have the volume up\, the drinks flowing and every game on all tournament long.
URL:https://sportsandsocial.com/dc/event/march-hoops-2/2026-03-23/
ATTACH;FMTTYPE=image/png:https://sportsandsocial.com/dc/wp-content/uploads/sites/19/2026/03/pick3-sq-e1772563022706.png
END:VEVENT
BEGIN:VEVENT
DTSTART;TZID=America/New_York:20260324T000000
DTEND;TZID=America/New_York:20260326T113700
DTSTAMP:20260420T041935
CREATED:20260311T161955Z
LAST-MODIFIED:20260317T154218Z
UID:10000523-1774310400-1774525020@sportsandsocial.com
SUMMARY:March Hoops
DESCRIPTION:MARCH HOOPS IS HERE \nFrom the First Round through the championship\, we are your headquarters for wall-to-wall college basketball action. With plenty of TVs throughout the venue\, you will never miss a big play\, upset or overtime thriller. Whether you are riding with your alma mater\, tracking your bracket or just in it for the drama\, this is where the tournament comes alive. \nAll the games. All the action. All tournament long. \nTOURNAMENT DRINK SPECIALS\nValid 3/15 – 4/6 \n$15 Domestic Beer Buckets\n$8 Surfsides\n$8 Statesides \nGather your crew\, claim your table early and make Sports & Social your home court for every round. We will have the volume up\, the drinks flowing and every game on all tournament long.
URL:https://sportsandsocial.com/dc/event/march-hoops-2/2026-03-24/
ATTACH;FMTTYPE=image/png:https://sportsandsocial.com/dc/wp-content/uploads/sites/19/2026/03/pick3-sq-e1772563022706.png
END:VEVENT
BEGIN:VEVENT
DTSTART;TZID=America/New_York:20260325T000000
DTEND;TZID=America/New_York:20260327T113700
DTSTAMP:20260420T041935
CREATED:20260311T161955Z
LAST-MODIFIED:20260317T154218Z
UID:10000524-1774396800-1774611420@sportsandsocial.com
SUMMARY:March Hoops
DESCRIPTION:MARCH HOOPS IS HERE \nFrom the First Round through the championship\, we are your headquarters for wall-to-wall college basketball action. With plenty of TVs throughout the venue\, you will never miss a big play\, upset or overtime thriller. Whether you are riding with your alma mater\, tracking your bracket or just in it for the drama\, this is where the tournament comes alive. \nAll the games. All the action. All tournament long. \nTOURNAMENT DRINK SPECIALS\nValid 3/15 – 4/6 \n$15 Domestic Beer Buckets\n$8 Surfsides\n$8 Statesides \nGather your crew\, claim your table early and make Sports & Social your home court for every round. We will have the volume up\, the drinks flowing and every game on all tournament long.
URL:https://sportsandsocial.com/dc/event/march-hoops-2/2026-03-25/
ATTACH;FMTTYPE=image/png:https://sportsandsocial.com/dc/wp-content/uploads/sites/19/2026/03/pick3-sq-e1772563022706.png
END:VEVENT
BEGIN:VEVENT
DTSTART;TZID=America/New_York:20260326T000000
DTEND;TZID=America/New_York:20260328T113700
DTSTAMP:20260420T041935
CREATED:20260311T161955Z
LAST-MODIFIED:20260317T154218Z
UID:10000525-1774483200-1774697820@sportsandsocial.com
SUMMARY:March Hoops
DESCRIPTION:MARCH HOOPS IS HERE \nFrom the First Round through the championship\, we are your headquarters for wall-to-wall college basketball action. With plenty of TVs throughout the venue\, you will never miss a big play\, upset or overtime thriller. Whether you are riding with your alma mater\, tracking your bracket or just in it for the drama\, this is where the tournament comes alive. \nAll the games. All the action. All tournament long. \nTOURNAMENT DRINK SPECIALS\nValid 3/15 – 4/6 \n$15 Domestic Beer Buckets\n$8 Surfsides\n$8 Statesides \nGather your crew\, claim your table early and make Sports & Social your home court for every round. We will have the volume up\, the drinks flowing and every game on all tournament long.
URL:https://sportsandsocial.com/dc/event/march-hoops-2/2026-03-26/
ATTACH;FMTTYPE=image/png:https://sportsandsocial.com/dc/wp-content/uploads/sites/19/2026/03/pick3-sq-e1772563022706.png
END:VEVENT
BEGIN:VEVENT
DTSTART;TZID=America/New_York:20260327T000000
DTEND;TZID=America/New_York:20260329T113700
DTSTAMP:20260420T041935
CREATED:20260311T161955Z
LAST-MODIFIED:20260317T154218Z
UID:10000526-1774569600-1774784220@sportsandsocial.com
SUMMARY:March Hoops
DESCRIPTION:MARCH HOOPS IS HERE \nFrom the First Round through the championship\, we are your headquarters for wall-to-wall college basketball action. With plenty of TVs throughout the venue\, you will never miss a big play\, upset or overtime thriller. Whether you are riding with your alma mater\, tracking your bracket or just in it for the drama\, this is where the tournament comes alive. \nAll the games. All the action. All tournament long. \nTOURNAMENT DRINK SPECIALS\nValid 3/15 – 4/6 \n$15 Domestic Beer Buckets\n$8 Surfsides\n$8 Statesides \nGather your crew\, claim your table early and make Sports & Social your home court for every round. We will have the volume up\, the drinks flowing and every game on all tournament long.
URL:https://sportsandsocial.com/dc/event/march-hoops-2/2026-03-27/
ATTACH;FMTTYPE=image/png:https://sportsandsocial.com/dc/wp-content/uploads/sites/19/2026/03/pick3-sq-e1772563022706.png
END:VEVENT
BEGIN:VEVENT
DTSTART;TZID=America/New_York:20260328T000000
DTEND;TZID=America/New_York:20260330T113700
DTSTAMP:20260420T041935
CREATED:20260311T161955Z
LAST-MODIFIED:20260317T154218Z
UID:10000527-1774656000-1774870620@sportsandsocial.com
SUMMARY:March Hoops
DESCRIPTION:MARCH HOOPS IS HERE \nFrom the First Round through the championship\, we are your headquarters for wall-to-wall college basketball action. With plenty of TVs throughout the venue\, you will never miss a big play\, upset or overtime thriller. Whether you are riding with your alma mater\, tracking your bracket or just in it for the drama\, this is where the tournament comes alive. \nAll the games. All the action. All tournament long. \nTOURNAMENT DRINK SPECIALS\nValid 3/15 – 4/6 \n$15 Domestic Beer Buckets\n$8 Surfsides\n$8 Statesides \nGather your crew\, claim your table early and make Sports & Social your home court for every round. We will have the volume up\, the drinks flowing and every game on all tournament long.
URL:https://sportsandsocial.com/dc/event/march-hoops-2/2026-03-28/
ATTACH;FMTTYPE=image/png:https://sportsandsocial.com/dc/wp-content/uploads/sites/19/2026/03/pick3-sq-e1772563022706.png
END:VEVENT
BEGIN:VEVENT
DTSTART;TZID=America/New_York:20260329T000000
DTEND;TZID=America/New_York:20260331T113700
DTSTAMP:20260420T041935
CREATED:20260311T161955Z
LAST-MODIFIED:20260317T154218Z
UID:10000528-1774742400-1774957020@sportsandsocial.com
SUMMARY:March Hoops
DESCRIPTION:MARCH HOOPS IS HERE \nFrom the First Round through the championship\, we are your headquarters for wall-to-wall college basketball action. With plenty of TVs throughout the venue\, you will never miss a big play\, upset or overtime thriller. Whether you are riding with your alma mater\, tracking your bracket or just in it for the drama\, this is where the tournament comes alive. \nAll the games. All the action. All tournament long. \nTOURNAMENT DRINK SPECIALS\nValid 3/15 – 4/6 \n$15 Domestic Beer Buckets\n$8 Surfsides\n$8 Statesides \nGather your crew\, claim your table early and make Sports & Social your home court for every round. We will have the volume up\, the drinks flowing and every game on all tournament long.
URL:https://sportsandsocial.com/dc/event/march-hoops-2/2026-03-29/
ATTACH;FMTTYPE=image/png:https://sportsandsocial.com/dc/wp-content/uploads/sites/19/2026/03/pick3-sq-e1772563022706.png
END:VEVENT
BEGIN:VEVENT
DTSTART;TZID=America/New_York:20260330T000000
DTEND;TZID=America/New_York:20260401T113700
DTSTAMP:20260420T041935
CREATED:20260311T161955Z
LAST-MODIFIED:20260317T154218Z
UID:10000529-1774828800-1775043420@sportsandsocial.com
SUMMARY:March Hoops
DESCRIPTION:MARCH HOOPS IS HERE \nFrom the First Round through the championship\, we are your headquarters for wall-to-wall college basketball action. With plenty of TVs throughout the venue\, you will never miss a big play\, upset or overtime thriller. Whether you are riding with your alma mater\, tracking your bracket or just in it for the drama\, this is where the tournament comes alive. \nAll the games. All the action. All tournament long. \nTOURNAMENT DRINK SPECIALS\nValid 3/15 – 4/6 \n$15 Domestic Beer Buckets\n$8 Surfsides\n$8 Statesides \nGather your crew\, claim your table early and make Sports & Social your home court for every round. We will have the volume up\, the drinks flowing and every game on all tournament long.
URL:https://sportsandsocial.com/dc/event/march-hoops-2/2026-03-30/
ATTACH;FMTTYPE=image/png:https://sportsandsocial.com/dc/wp-content/uploads/sites/19/2026/03/pick3-sq-e1772563022706.png
END:VEVENT
BEGIN:VEVENT
DTSTART;TZID=America/New_York:20260331T000000
DTEND;TZID=America/New_York:20260402T113700
DTSTAMP:20260420T041935
CREATED:20260311T161955Z
LAST-MODIFIED:20260317T154218Z
UID:10000530-1774915200-1775129820@sportsandsocial.com
SUMMARY:March Hoops
DESCRIPTION:MARCH HOOPS IS HERE \nFrom the First Round through the championship\, we are your headquarters for wall-to-wall college basketball action. With plenty of TVs throughout the venue\, you will never miss a big play\, upset or overtime thriller. Whether you are riding with your alma mater\, tracking your bracket or just in it for the drama\, this is where the tournament comes alive. \nAll the games. All the action. All tournament long. \nTOURNAMENT DRINK SPECIALS\nValid 3/15 – 4/6 \n$15 Domestic Beer Buckets\n$8 Surfsides\n$8 Statesides \nGather your crew\, claim your table early and make Sports & Social your home court for every round. We will have the volume up\, the drinks flowing and every game on all tournament long.
URL:https://sportsandsocial.com/dc/event/march-hoops-2/2026-03-31/
ATTACH;FMTTYPE=image/png:https://sportsandsocial.com/dc/wp-content/uploads/sites/19/2026/03/pick3-sq-e1772563022706.png
END:VEVENT
END:VCALENDAR