BEGIN:VCALENDAR
VERSION:2.0
PRODID:-//DraftKings Sports &amp; Social Troy - ECPv6.15.7//NONSGML v1.0//EN
CALSCALE:GREGORIAN
METHOD:PUBLISH
X-ORIGINAL-URL:https://sportsandsocial.com/troy
X-WR-CALDESC:Events for DraftKings Sports &amp; Social Troy
REFRESH-INTERVAL;VALUE=DURATION:PT1H
X-Robots-Tag:noindex
X-PUBLISHED-TTL:PT1H
BEGIN:VTIMEZONE
TZID:America/New_York
BEGIN:DAYLIGHT
TZOFFSETFROM:-0500
TZOFFSETTO:-0400
TZNAME:EDT
DTSTART:20250309T070000
END:DAYLIGHT
BEGIN:STANDARD
TZOFFSETFROM:-0400
TZOFFSETTO:-0500
TZNAME:EST
DTSTART:20251102T060000
END:STANDARD
BEGIN:DAYLIGHT
TZOFFSETFROM:-0500
TZOFFSETTO:-0400
TZNAME:EDT
DTSTART:20260308T070000
END:DAYLIGHT
BEGIN:STANDARD
TZOFFSETFROM:-0400
TZOFFSETTO:-0500
TZNAME:EST
DTSTART:20261101T060000
END:STANDARD
BEGIN:DAYLIGHT
TZOFFSETFROM:-0500
TZOFFSETTO:-0400
TZNAME:EDT
DTSTART:20270314T070000
END:DAYLIGHT
BEGIN:STANDARD
TZOFFSETFROM:-0400
TZOFFSETTO:-0500
TZNAME:EST
DTSTART:20271107T060000
END:STANDARD
END:VTIMEZONE
BEGIN:VEVENT
DTSTART;TZID=America/New_York:20260516T200000
DTEND;TZID=America/New_York:20260516T233000
DTSTAMP:20260422T111745
CREATED:20260409T175411Z
LAST-MODIFIED:20260415T194944Z
UID:10001004-1778961600-1778974200@sportsandsocial.com
SUMMARY:Ronda Rousey vs. Gina Carano
DESCRIPTION:Two legends. One fight you don’t want to miss. Watch Ronda Rousey vs Gina Carano live with us on the big screens\, surrounded by a crowd that brings the energy. Grab your crew\, lock in your table and experience every moment like you’re cageside. \nBOOK YOUR TABLE
URL:https://sportsandsocial.com/troy/event/ronda-rousey-vs-gina-carano/
ATTACH;FMTTYPE=image/png:https://sportsandsocial.com/troy/wp-content/uploads/sites/12/2026/04/Screenshot-2026-04-09-at-1.50.48-PM.png
END:VEVENT
END:VCALENDAR